BEGIN:VCALENDAR
VERSION:2.0
PRODID:-//Tukios.com/
BEGIN:VEVENT
UID:1529e4c4-3643-4575-b21d-a86f6b446805@www.mitchellfh.com
DTSTAMP:20260424T165129Z
DTSTART:20260428T143000Z
DTEND:20260428T144500Z
SUMMARY:Burial
DESCRIPTION:
URL:https://www.mitchellfh.com/obituaries/alan-sease
LOCATION: 34024 Veterans Memorial Drive  Adel IA 50003
GEO:41.5457581;-93.9480823
END:VEVENT
END:VCALENDAR