BEGIN:VCALENDAR
VERSION:2.0
PRODID:-//Tukios.com/
BEGIN:VEVENT
UID:6898a195-cfce-4f3b-a2ee-fffda5f14568@www.mitchellfh.com
DTSTAMP:20260420T090723Z
DTSTART:20260424T190000Z
DTEND:20260424T200000Z
SUMMARY:Memorial Service
DESCRIPTION:
URL:https://www.mitchellfh.com/obituaries/diane-lubbert
LOCATION: 1209 Iowa Avenue W  Marshalltown IA 50158
GEO:42.0078759;-92.9333411
END:VEVENT
END:VCALENDAR