BEGIN:VCALENDAR
VERSION:2.0
PRODID:-//Tukios.com/
BEGIN:VEVENT
UID:5e3fd4ca-8356-4723-af09-c037cec52bf6@www.mitchellfh.com
DTSTAMP:20260424T204928Z
DTSTART:20260428T220000Z
DTEND:20260429T000000Z
SUMMARY:Visitation
DESCRIPTION:
URL:https://www.mitchellfh.com/obituaries/phylis-cookie-pantle
LOCATION:Mitchell Family Funeral Home 1209 Iowa Avenue West  Marshalltown 
	IA 50158
GEO:42.0078759;-92.9333411
END:VEVENT
END:VCALENDAR