BEGIN:VCALENDAR
VERSION:2.0
PRODID:-//Tukios.com/
BEGIN:VEVENT
UID:d6c089d8-7831-47e9-a05e-a5e1e31a1f2b@www.mitchellfh.com
DTSTAMP:20260424T205134Z
DTSTART:20260429T153000Z
DTEND:20260429T163000Z
SUMMARY:Funeral Service
DESCRIPTION:
URL:https://www.mitchellfh.com/obituaries/phylis-cookie-pantle
LOCATION:Mitchell Family Funeral Home 1209 Iowa Avenue West  Marshalltown 
	IA 50158
GEO:42.0078759;-92.9333411
END:VEVENT
END:VCALENDAR