BEGIN:VCALENDAR
VERSION:2.0
PRODID:-//Tukios.com/
BEGIN:VEVENT
UID:5d00d2dd-f32b-43a8-b0f9-061c928e2a67@www.mitchellfh.com
DTSTAMP:20260421T002057Z
DTSTART:20260427T133000Z
DTEND:20260427T151500Z
SUMMARY:Visitation
DESCRIPTION:
URL:https://www.mitchellfh.com/obituaries/ruth-jacobson
LOCATION: 9 West Linn Street  Marshalltown IA 50158
GEO:42.0470939;-92.9143966
END:VEVENT
END:VCALENDAR