BEGIN:VCALENDAR
VERSION:2.0
PRODID:-//Tukios.com/
BEGIN:VEVENT
UID:2e259605-ca7e-4a22-95f9-ac0869b5eb6a@www.mitchellfh.com
DTSTAMP:20260421T001529Z
DTSTART:20260427T153000Z
DTEND:20260427T163000Z
SUMMARY:Funeral Service
DESCRIPTION:
URL:https://www.mitchellfh.com/obituaries/ruth-jacobson
LOCATION: 9 West Linn Street  Marshalltown IA 50158
GEO:42.0470939;-92.9143966
END:VEVENT
END:VCALENDAR