BEGIN:VCALENDAR
VERSION:2.0
PRODID:-//Tukios.com/
BEGIN:VEVENT
UID:f068af5e-8029-4b42-b057-edb983714396@www.mitchellfh.com
DTSTAMP:20260424T192524Z
DTSTART:20260509T220000Z
DTEND:20260509T230000Z
SUMMARY:Visitation
DESCRIPTION:
URL:https://www.mitchellfh.com/obituaries/saxon-hill
LOCATION:Mitchell Family Funeral Home 1209 Iowa Avenue West  Marshalltown 
	IA 50158
GEO:42.0078759;-92.9333411
END:VEVENT
END:VCALENDAR