BEGIN:VCALENDAR
VERSION:2.0
PRODID:-//Tukios.com/
BEGIN:VEVENT
UID:91c63619-ffbb-485a-8d06-1c6bf04ec514@www.mitchellfh.com
DTSTAMP:20260424T192135Z
DTSTART:20260509T230000Z
DTEND:20260510T000000Z
SUMMARY:Celebration of Life
DESCRIPTION:
URL:https://www.mitchellfh.com/obituaries/saxon-hill
LOCATION:Mitchell Family Funeral Home 1209 Iowa Avenue West  Marshalltown 
	IA 50158
GEO:42.0078759;-92.9333411
END:VEVENT
END:VCALENDAR