BEGIN:VCALENDAR
VERSION:2.0
PRODID:-//Tukios.com/
BEGIN:VEVENT
UID:0d0b31ed-30af-4899-ab92-fc1169b1214a@www.mitchellfh.com
DTSTAMP:20260422T181115Z
DTSTART:20260423T190000Z
DTEND:20260423T200000Z
SUMMARY:Visitation
DESCRIPTION:
URL:https://www.mitchellfh.com/obituaries/tayquan-million
LOCATION: 1209 Iowa Avenue W  Marshalltown IA 50158
GEO:42.0078759;-92.9333411
END:VEVENT
END:VCALENDAR