BEGIN:VCALENDAR
VERSION:2.0
PRODID:-//Tukios.com/
BEGIN:VEVENT
UID:b15121d7-5240-4ac3-9b7c-a9df9eb917e5@www.mitchellfh.com
DTSTAMP:20260422T181420Z
DTSTART:20260423T200000Z
DTEND:20260423T210000Z
SUMMARY:Funeral Service
DESCRIPTION:
URL:https://www.mitchellfh.com/obituaries/tayquan-million
LOCATION: 1209 Iowa Avenue W  Marshalltown IA 50158
GEO:42.0078759;-92.9333411
END:VEVENT
END:VCALENDAR